Workbook

Sheet Karakterskema
A1: Murerfaget | D1: Karakterskema | I1: Evaluering
A2: Sammenfattende bedømmelse af mureruddannelsens afsluttende opgave ved:
A3: Skolens navn
A4: Skole | E4: Dato/år
A6: Formand for Uddannelsesudvalget | E6: Skolens ledende faglærer
A7: (Underskrift) | E7: (Underskrift) | I7: Fagområder
A8: Speciale | B8: Nr. | C8: Elevens navn | D8: Cpr.nr. | E8: Karakter | F8: Karakter | G8: Vægtet | H8: Bemærkninger | I8: 1 | J8: M | K8: Murer fagområde
E9: teori | F9: praktik | G9: Gn. Snit | I9: 2 | J9: F | K9: Flise fagområde
A10: M | B10: 1 | C10: Elev 1 | D10: 010101-0001 | E10: =IF(C10=0,"",'Elev nr. 1'!$F$15) -> 00 | F10: =IF(C10=0,"",'Elev nr. 1'!$F$17) -> 00 | G10: =IF(C10=0,"",'Elev nr. 1'!$F$19) -> 0 | H10: =IF(C10=0,"",'Elev nr. 1'!$C$22) -> Er ikke bestået | I10: 3 | J10: E | K10: Energi fagområde
A11: F | B11: =B10+1 -> 2 | C11: Elev 2 | D11: 010101-0002 | E11: =IF(C11=0,"",'Elev nr. 2'!$F$15) -> 00 | F11: =IF(C11=0,"",'Elev nr. 2'!$F$17) -> 00 | G11: =IF(C11=0,"",'Elev nr. 2'!$F$19) -> 0 | H11: =IF(C11=0,"",'Elev nr. 2'!$C$22) -> Er ikke bestået | I11: 4 | J11: R | K11: Restaurering og renoverings fagområde
A12: E | B12: =B11+1 -> 3 | C12: Elev 3 | D12: 010101-0003 | E12: =IF(C12=0,"",'Elev nr. 3'!$F$15) -> 00 | F12: =IF(C12=0,"",'Elev nr. 3'!$F$17) -> 00 | G12: =IF(C12=0,"",'Elev nr. 3'!$F$19) -> 0 | H12: =IF(C12=0,"",'Elev nr. 3'!$C$22) -> Er ikke bestået | I12: 5 | J12: T | K12: Tag fagområde
A13: R | B13: =B12+1 -> 4 | C13: Elev 4 | D13: 010101-0004 | E13: =IF(C13=0,"",'Elev nr. 4'!$F$15) -> 00 | F13: =IF(C13=0,"",'Elev nr. 4'!$F$17) -> 00 | G13: =IF(C13=0,"",'Elev nr. 4'!$F$19) -> 0 | H13: =IF(C13=0,"",'Elev nr. 4'!$C$22) -> Er ikke bestået
A14: T | B14: =B13+1 -> 5 | C14: Elev 5 | D14: 010101-0005 | E14: =IF(C14=0,"",'Elev nr. 5'!$F$15) -> 00 | F14: =IF(C14=0,"",'Elev nr. 5'!$F$17) -> 00 | G14: =IF(C14=0,"",'Elev nr. 5'!$F$19) -> 0 | H14: =IF(C14=0,"",'Elev nr. 5'!$C$22) -> Er ikke bestået
B15: =B14+1 -> 6 | E15: =IF(C15=0,"",'Elev nr. 6'!$F$15) | F15: =IF(C15=0,"",'Elev nr. 6'!$F$17) | G15: =IF(C15=0,"",'Elev nr. 6'!$F$19) | H15: =IF(C15=0,"",'Elev nr. 6'!$C$22)
B16: =B15+1 -> 7 | E16: =IF(C16=0,"",'Elev nr. 7'!$F$15) | F16: =IF(C16=0,"",'Elev nr. 7'!$F$17) | G16: =IF(C16=0,"",'Elev nr. 7'!$F$19) | H16: =IF(C16=0,"",'Elev nr. 7'!$C$22)
B17: =B16+1 -> 8 | E17: =IF(C17=0,"",'Elev nr. 8'!$F$15) | F17: =IF(C17=0,"",'Elev nr. 8'!$F$17) | G17: =IF(C17=0,"",'Elev nr. 8'!$F$19) | H17: =IF(C17=0,"",'Elev nr. 8'!$C$22)
B18: =B17+1 -> 9 | E18: =IF(C18=0,"",'Elev nr. 9'!$F$15) | F18: =IF(C18=0,"",'Elev nr. 9'!$F$17) | G18: =IF(C18=0,"",'Elev nr. 9'!$F$19) | H18: =IF(C18=0,"",'Elev nr. 9'!$C$22)
B19: =B18+1 -> 10 | E19: =IF(C19=0,"",'Elev nr. 10'!$F$15) | F19: =IF(C19=0,"",'Elev nr. 10'!$F$17) | G19: =IF(C19=0,"",'Elev nr. 10'!$F$19) | H19: =IF(C19=0,"",'Elev nr. 10'!$C$22)
B20: =B19+1 -> 11 | E20: =IF(C20=0,"",'Elev nr. 11'!$F$15) | F20: =IF(C20=0,"",'Elev nr. 11'!$F$17) | G20: =IF(C20=0,"",'Elev nr. 11'!$F$19) | H20: =IF(C20=0,"",'Elev nr. 11'!$C$22)
B21: =B20+1 -> 12 | E21: =IF(C21=0,"",'Elev nr. 12'!$F$15) | F21: =IF(C21=0,"",'Elev nr. 12'!$F$17) | G21: =IF(C21=0,"",'Elev nr. 12'!$F$19) | H21: =IF(C21=0,"",'Elev nr. 12'!$C$22)
B22: =B21+1 -> 13 | E22: =IF(C22=0,"",'Elev nr. 13'!$F$15) | F22: =IF(C22=0,"",'Elev nr. 13'!$F$17) | G22: =IF(C22=0,"",'Elev nr. 13'!$F$19) | H22: =IF(C22=0,"",'Elev nr. 13'!$C$22)
B23: =B22+1 -> 14 | E23: =IF(C23=0,"",'Elev nr. 14'!$F$15) | F23: =IF(C23=0,"",'Elev nr. 14'!$F$17) | G23: =IF(C23=0,"",'Elev nr. 14'!$F$19) | H23: =IF(C23=0,"",'Elev nr. 14'!$C$22)
B24: =B23+1 -> 15 | E24: =IF(C24=0,"",'Elev nr. 15'!$F$15) | F24: =IF(C24=0,"",'Elev nr. 15'!$F$17) | G24: =IF(C24=0,"",'Elev nr. 15'!$F$19) | H24: =IF(C24=0,"",'Elev nr. 15'!$C$22)
B25: =B24+1 -> 16 | E25: =IF(C25=0,"",'Elev nr. 16'!$F$15) | F25: =IF(C25=0,"",'Elev nr. 16'!$F$17) | G25: =IF(C25=0,"",'Elev nr. 16'!$F$19) | H25: =IF(C25=0,"",'Elev nr. 16'!$C$22)
B26: =B25+1 -> 17 | E26: =IF(C26=0,"",'Elev nr. 17'!$F$15) | F26: =IF(C26=0,"",'Elev nr. 17'!$F$17) | G26: =IF(C26=0,"",'Elev nr. 17'!$F$19) | H26: =IF(C26=0,"",'Elev nr. 17'!$C$22)
B27: =B26+1 -> 18 | E27: =IF(C27=0,"",'Elev nr. 18'!$F$15) | F27: =IF(C27=0,"",'Elev nr. 18'!$F$17) | G27: =IF(C27=0,"",'Elev nr. 18'!$F$19) | H27: =IF(C27=0,"",'Elev nr. 18'!$C$22)
B28: =B27+1 -> 19 | E28: =IF(C28=0,"",'Elev nr. 19'!$F$15) | F28: =IF(C28=0,"",'Elev nr. 19'!$F$17) | G28: =IF(C28=0,"",'Elev nr. 19'!$F$19) | H28: =IF(C28=0,"",'Elev nr. 19'!$C$22)
B29: =B28+1 -> 20 | E29: =IF(C29=0,"",'Elev nr. 20'!$F$15) | F29: =IF(C29=0,"",'Elev nr. 20'!$F$17) | G29: =IF(C29=0,"",'Elev nr. 20'!$F$19) | H29: =IF(C29=0,"",'Elev nr. 20'!$C$22)
B30: =B29+1 -> 21 | E30: =IF(C30=0,"",'Elev nr. 21'!$F$15) | F30: =IF(C30=0,"",'Elev nr. 21'!$F$17) | G30: =IF(C30=0,"",'Elev nr. 21'!$F$19) | H30: =IF(C30=0,"",'Elev nr. 21'!$C$22)
B31: =B30+1 -> 22 | E31: =IF(C31=0,"",'Elev nr. 22'!$F$15) | F31: =IF(C31=0,"",'Elev nr. 22'!$F$17) | G31: =IF(C31=0,"",'Elev nr. 22'!$F$19) | H31: =IF(C31=0,"",'Elev nr. 22'!$C$22)
B32: =B31+1 -> 23 | E32: =IF(C32=0,"",'Elev nr. 23'!$F$15) | F32: =IF(C32=0,"",'Elev nr. 23'!$F$17) | G32: =IF(C32=0,"",'Elev nr. 23'!$F$19) | H32: =IF(C32=0,"",'Elev nr. 23'!$C$22)
B33: =B32+1 -> 24 | E33: =IF(C33=0,"",'Elev nr. 24'!$F$15) | F33: =IF(C33=0,"",'Elev nr. 24'!$F$17) | G33: =IF(C33=0,"",'Elev nr. 24'!$F$19) | H33: =IF(C33=0,"",'Elev nr. 24'!$C$22)
B34: =B33+1 -> 25 | E34: =IF(C34=0,"",'Elev nr. 25'!$F$15) | F34: =IF(C34=0,"",'Elev nr. 25'!$F$17) | G34: =IF(C34=0,"",'Elev nr. 25'!$F$19) | H34: =IF(C34=0,"",'Elev nr. 25'!$C$22)
B35: =B34+1 -> 26 | E35: =IF(C35=0,"",'Elev nr. 26'!$F$15) | F35: =IF(C35=0,"",'Elev nr. 26'!$F$17) | G35: =IF(C35=0,"",'Elev nr. 26'!$F$19) | H35: =IF(C35=0,"",'Elev nr. 26'!$C$22)
B36: =B35+1 -> 27 | E36: =IF(C36=0,"",'Elev nr. 27'!$F$15) | F36: =IF(C36=0,"",'Elev nr. 27'!$F$17) | G36: =IF(C36=0,"",'Elev nr. 27'!$F$19) | H36: =IF(C36=0,"",'Elev nr. 27'!$C$22)
B37: =B36+1 -> 28 | E37: =IF(C37=0,"",'Elev nr. 28'!$F$15) | F37: =IF(C37=0,"",'Elev nr. 28'!$F$17) | G37: =IF(C37=0,"",'Elev nr. 28'!$F$19) | H37: =IF(C37=0,"",'Elev nr. 28'!$C$22)
B38: =B37+1 -> 29 | E38: =IF(C38=0,"",'Elev nr. 29'!$F$15) | F38: =IF(C38=0,"",'Elev nr. 29'!$F$17) | G38: =IF(C38=0,"",'Elev nr. 29'!$F$19) | H38: =IF(C38=0,"",'Elev nr. 29'!$C$22)
B39: =B38+1 -> 30 | E39: =IF(C39=0,"",'Elev nr. 30'!$F$15) | F39: =IF(C39=0,"",'Elev nr. 30'!$F$17) | G39: =IF(C39=0,"",'Elev nr. 30'!$F$19) | H39: =IF(C39=0,"",'Elev nr. 30'!$C$22)
B40: =B39+1 -> 31 | E40: =IF(C40=0,"",'Elev nr. 31'!$F$15) | F40: =IF(C40=0,"",'Elev nr. 31'!$F$17) | G40: =IF(C40=0,"",'Elev nr. 31'!$F$19) | H40: =IF(C40=0,"",'Elev nr. 31'!$C$22)
B41: =B40+1 -> 32 | E41: =IF(C41=0,"",'Elev nr. 32'!$F$15) | F41: =IF(C41=0,"",'Elev nr. 32'!$F$17) | G41: =IF(C41=0,"",'Elev nr. 32'!$F$19) | H41: =IF(C41=0,"",'Elev nr. 32'!$C$22)

Sheet Elev nr. 1
A1: Elevnavn: | B1: =IF(Karakterskema!C10=0,"",Karakterskema!C10) -> Elev 1 | D1: Cpr.nr. | E1: =IF(B1="","",Karakterskema!D10) -> 010101-0001 | G1: Dato: | H1: =Karakterskema!$E$3 -> 0 | J1: Karakterskema
A3: Den praktiske del vægter 2/3 | B3: Discipliner: | E3: Fagområde: | H3: Afrunding af karaktererne for teori og praktik
C4: Censor | D4: Eksaminator | E4: =IF(B1="","",IF(Karakterskema!A10=Karakterskema!$J$8,Karakterskema!$K$8,IF(Karakterskema!A10=Karakterskema!$J$9,Karakterskema!$K$9,IF(Karakterskema!A10=Karakterskema!$J$10,Karakterskema!$K$10,IF(Karakterskema!A10=Karakterskema!$J$11,Karakterskema!$K$11,IF(Karakterskema!A10=Karakterskema!$J$12,Karakterskema!$K$12,0)))))) -> Murer fagområde | H4: Karakter | I4: Snit
B5: Samlet praktikkarakter | H5: -03
B6: Sum af delkarakterer | C6: =IF(B1="","",SUM(C5:C5)) -> 0 | D6: =IF(B1="","",SUM(D5:D5)) -> 0 | H6: 00
B7: Sum/1 1) | C7: =IF(B1="","",C6/1) -> 0 | D7: =IF(B1="","",D6/1) -> 0 | E7: =IF(B1="","",IF(C10<2,"Er ikke bestået",IF(C21<2,"Er ikke bestået",IF(AND(F19>=-3,F19<2),"Er ikke bestået",IF(AND(F19>=2,F19<=7.9),"Er antaget",IF(AND(C21>=2,C21<4),"Er antaget",IF(AND(F19>=8,F19<=10),"Er antaget med ros",IF(AND(F19>=10.1,F19<=11.9),"Er antaget med bronze",IF(AND(F19>11.9,F19<=12),"Er antaget med sølv",IF((F19>12),"Fejl i indtastningen","F")))))))))) -> Er ikke bestået | H7: Må ikke rundes op | I7: 1.99
B8: Afrundet karakter 2) | C8: =IF(AND(C7>=-3,C7<-1.5),-3,IF(AND(C7>=-1.5,C7<2),0,IF(AND(C7>=2,C7<3),2,IF(AND(C7>=3,C7<5.5),4,IF(AND(C7>=5.5,C7<8.5),7,IF(AND(C7>=8.5,C7<11),10,IF(AND(C7>=11,C7<=12),12,""))))))) -> 0 | D8: =IF(AND(D7>=-3,D7<-1.5),-3,IF(AND(D7>=-1.5,D7<2),0,IF(AND(D7>=2,D7<3),2,IF(AND(D7>=3,D7<5.5),4,IF(AND(D7>=5.5,D7<8.5),7,IF(AND(D7>=8.5,D7<11),10,IF(AND(D7>=11,D7<=12),12,""))))))) -> 0 | H8: 2
B9: Sum/2 | C9: =IF(B1="","",(C8+D8)/2) -> 0
B10: Endelig karakter for den praktiske del 4) | C10: =IF(B1="","",IF(AND((C8+D8)/2>=-3,(C8+D8)/2<-1.5),-3,IF((C8+D8)/2=-1.5,IF(C8>D8,0,-3),IF(AND((C8+D8)/2>-1.5,(C8+D8)/2<2),0,IF(AND((C8+D8)/2>=2,(C8+D8)/2<3),2,IF((C8+D8)/2=3,IF(C8>D8,4,2),IF(AND((C8+D8)/2>3,(C8+D8)/2<5.5),4,IF((C8+D8)/2=5.5,IF(C8>D8,7,4),IF(AND((C8+D8)/2>5.5,(C8+D8)/2<8.5),7,IF((C8+D8)/2=8.5,IF(C8>D8,10,7),IF(AND((C8+D8)/2>8.5,(C8+D8)/2<11),10,IF((C8+D8)/2=11,IF(C8>D8,12,10),IF(AND((C8+D8)/2>11,(C8+D8)/2<=12),12,"Fejl 40"))))))))))))) -> 0 | H10: Runder op ved | I10: 3
H11: 4
H12: Runder op ved | I12: 5.5
A13: Den teoretiske del vægter 1/3 | B13: Discipliner: | C13: Selvvalgt fagområde | E13: Easy/kontor | H13: 7
C14: Censor | D14: Eksaminator | H14: Runder op ved | I14: 8.5
B15: Mundtlig fremstilling | E15: Teori: | F15: =IF(B1="","",IF(C21=-3,"-03",IF(C21=0,"00",IF(C21=2,"02",IF(C21=4,"4",IF(C21=7,"7",IF(C21=10,"10",IF(C21=12,"12","Fejl 40")))))))) -> 00 | H15: 10
B16: Dokumentation | H16: Runder op | I16: 11
B17: Sum af karakterer | C17: =IF(B1="","",SUM(C15:C16)) -> 0 | D17: =IF(B1="","",SUM(D15:D16)) -> 0 | E17: Praktik: | F17: =IF(B1="","",IF(C10=-3,"-03",IF(C10=0,"00",IF(C10=2,"02",IF(C10=4,"4",IF(C10=7,"7",IF(C10=10,"10",IF(C10=12,"12","Fejl 40")))))))) -> 00 | H17: 12
B18: Sum /2 1) | C18: =IF(B1="","",C17/2) -> 0 | D18: =IF(B1="","",D17/2) -> 0
B19: Afrundet karakter 2) | C19: =IF(AND(C18>=-3,C18<-1.5),-3,IF(AND(C18>=-1.5,C18<2),0,IF(AND(C18>=2,C18<3),2,IF(AND(C18>=3,C18<5.5),4,IF(AND(C18>=5.5,C18<8.5),7,IF(AND(C18>=8.5,C18<11),10,IF(AND(C18>=11,C18<=12),12,""))))))) -> 0 | D19: =IF(AND(D18>=-3,D18<-1.5),-3,IF(AND(D18>=-1.5,D18<2),0,IF(AND(D18>=2,D18<3),2,IF(AND(D18>=3,D18<5.5),4,IF(AND(D18>=5.5,D18<8.5),7,IF(AND(D18>=8.5,D18<11),10,IF(AND(D18>=11,D18<=12),12,""))))))) -> 0 | E19: Endelig | F19: =IF(B1="","",F15*1/3+F17*2/3) -> 0 | H19: Afrunding af endelig karakter, til medaljer
B20: Sum/2 | C20: =IF(B1="","",(C19+D19)/2) -> 0 | H20: Kræver mindst 4 i teori:
B21: Endelig karakter for den teoretiske del 3) | C21: =IF(B1="","",IF(AND((C19+D19)/2>=-3,(C19+D19)/2<-1.5),-3,IF((C19+D19)/2=-1.5,IF(C19>D19,0,-3),IF(AND((C19+D19)/2>-1.5,(C19+D19)/2<2),0,IF(AND((C19+D19)/2>=2,(C19+D19)/2<3),2,IF((C19+D19)/2=3,IF(C19>D19,4,2),IF(AND((C19+D19)/2>3,(C19+D19)/2<5.5),4,IF((C19+D19)/2=5.5,IF(C19>D19,7,4),IF(AND((C19+D19)/2>5.5,(C19+D19)/2<8.5),7,IF((C19+D19)/2=8.5,IF(C19>D19,10,7),IF(AND((C19+D19)/2>8.5,(C19+D19)/2<11),10,IF((C19+D19)/2=11,IF(C19>D19,12,10),IF(AND((C19+D19)/2>11,(C19+D19)/2<=12),12,"Fejl 40"))))))))))))) -> 0 | H21: Er antaget med ros | J21: 8,0 - 10,0
A22: =B1 -> Elev 1 | C22: =IF(B1="","",IF(C10<2,"Er ikke bestået",IF(C21<2,"Er ikke bestået",IF(AND(F19>=-3,F19<2),"Er ikke bestået",IF(AND(F19>=2,F19<=7.9),"Er antaget",IF(AND(C21>=2,C21<4),"Er antaget",IF(AND(F19>=8,F19<=10),"Er antaget med ros",IF(AND(F19>=10.1,F19<=11.9),"Er antaget med bronze",IF(AND(F19>11.9,F19<=12),"Er antaget med sølv",IF((F19>12),"Fejl i indtastningen","F")))))))))) -> Er ikke bestået
H23: Er antaget med bronze | J23: 10,1 - 11,9
A24: 1) Summen af delkaraktererne divideres med antallet af discipliner 2) Tallet afrundes til nærmeste karakter på 7-trinsskalaen 3) Er censor og eksaminator ikke enige om en samlet karakter, lægges censors og eksaminators karakterer sammen, divideres med 2 og afrundes til nærmeste karakter i 7-trinsskalaen. Hvis gennemsnittet ligger midt imellem de to karakterer, er den endelige karakter den nærmeste højere karakter, hvis det er censor har givet den højeste karakter, og ellers den nærmeste lavere karakter, hvis censor har givet den laveste karakter 4) Sum af karaktererne for basisdel og fagområde lægges sammen, divideres med 2 og afrundes til nærmeste karakter i 7-trinsskalaen.
H25: Er antaget med sølv | J25: 12
B33: Dato og underskrift censor | E33: Dato og underskrift eksaminator

Sheet Elev nr. 2
A1: Elevnavn: | B1: =IF(Karakterskema!C11=0,"",Karakterskema!C11) -> Elev 2 | D1: Cpr.nr. | E1: =IF(B1="","",Karakterskema!D11) -> 010101-0002 | G1: Dato: | H1: =Karakterskema!$E$3 -> 0 | J1: Karakterskema
A3: Den praktiske del vægter 2/3 | B3: Discipliner: | E3: Fagområde: | H3: Afrunding af karaktererne for teori og praktik
C4: Censor | D4: Eksaminator | E4: =IF(B1="","",IF(Karakterskema!A11=Karakterskema!$J$8,Karakterskema!$K$8,IF(Karakterskema!A11=Karakterskema!$J$9,Karakterskema!$K$9,IF(Karakterskema!A11=Karakterskema!$J$10,Karakterskema!$K$10,IF(Karakterskema!A11=Karakterskema!$J$11,Karakterskema!$K$11,IF(Karakterskema!A11=Karakterskema!$J$12,Karakterskema!$K$12,0)))))) -> Flise fagområde | H4: Karakter | I4: Snit
B5: Samlet praktikkarakter | H5: -03
B6: Sum af delkarakterer | C6: =IF(B1="","",SUM(C5:C5)) -> 0 | D6: =IF(B1="","",SUM(D5:D5)) -> 0 | H6: 00
B7: Sum/1 1) | C7: =IF(B1="","",C6/1) -> 0 | D7: =IF(B1="","",D6/1) -> 0 | E7: =IF(B1="","",IF(C10<2,"Er ikke bestået",IF(C21<2,"Er ikke bestået",IF(AND(F19>=-3,F19<2),"Er ikke bestået",IF(AND(F19>=2,F19<=7.9),"Er antaget",IF(AND(C21>=2,C21<4),"Er antaget",IF(AND(F19>=8,F19<=10),"Er antaget med ros",IF(AND(F19>=10.1,F19<=11.9),"Er antaget med bronze",IF(AND(F19>11.9,F19<=12),"Er antaget med sølv",IF((F19>12),"Fejl i indtastningen","F")))))))))) -> Er ikke bestået | H7: Må ikke rundes op | I7: 1.99
B8: Afrundet karakter 2) | C8: =IF(AND(C7>=-3,C7<-1.5),-3,IF(AND(C7>=-1.5,C7<2),0,IF(AND(C7>=2,C7<3),2,IF(AND(C7>=3,C7<5.5),4,IF(AND(C7>=5.5,C7<8.5),7,IF(AND(C7>=8.5,C7<11),10,IF(AND(C7>=11,C7<=12),12,""))))))) -> 0 | D8: =IF(AND(D7>=-3,D7<-1.5),-3,IF(AND(D7>=-1.5,D7<2),0,IF(AND(D7>=2,D7<3),2,IF(AND(D7>=3,D7<5.5),4,IF(AND(D7>=5.5,D7<8.5),7,IF(AND(D7>=8.5,D7<11),10,IF(AND(D7>=11,D7<=12),12,""))))))) -> 0 | H8: 2
B9: Sum/2 | C9: =IF(B1="","",(C8+D8)/2) -> 0
B10: Endelig karakter for den praktiske del 4) | C10: =IF(B1="","",IF(AND((C8+D8)/2>=-3,(C8+D8)/2<-1.5),-3,IF((C8+D8)/2=-1.5,IF(C8>D8,0,-3),IF(AND((C8+D8)/2>-1.5,(C8+D8)/2<2),0,IF(AND((C8+D8)/2>=2,(C8+D8)/2<3),2,IF((C8+D8)/2=3,IF(C8>D8,4,2),IF(AND((C8+D8)/2>3,(C8+D8)/2<5.5),4,IF((C8+D8)/2=5.5,IF(C8>D8,7,4),IF(AND((C8+D8)/2>5.5,(C8+D8)/2<8.5),7,IF((C8+D8)/2=8.5,IF(C8>D8,10,7),IF(AND((C8+D8)/2>8.5,(C8+D8)/2<11),10,IF((C8+D8)/2=11,IF(C8>D8,12,10),IF(AND((C8+D8)/2>11,(C8+D8)/2<=12),12,"Fejl 40"))))))))))))) -> 0 | H10: Runder op ved | I10: 3
H11: 4
H12: Runder op ved | I12: 5.5
A13: Den teoretiske del vægter 1/3 | B13: Discipliner: | C13: Selvvalgt fagområde | E13: Easy/kontor | H13: 7
C14: Censor | D14: Eksaminator | H14: Runder op ved | I14: 8.5
B15: Mundtlig fremstilling | E15: Teori: | F15: =IF(B1="","",IF(C21=-3,"-03",IF(C21=0,"00",IF(C21=2,"02",IF(C21=4,"4",IF(C21=7,"7",IF(C21=10,"10",IF(C21=12,"12","Fejl 40")))))))) -> 00 | H15: 10
B16: Dokumentation | H16: Runder op | I16: 11
B17: Sum af karakterer | C17: =IF(B1="","",SUM(C15:C16)) -> 0 | D17: =IF(B1="","",SUM(D15:D16)) -> 0 | E17: Praktik: | F17: =IF(B1="","",IF(C10=-3,"-03",IF(C10=0,"00",IF(C10=2,"02",IF(C10=4,"4",IF(C10=7,"7",IF(C10=10,"10",IF(C10=12,"12","Fejl 40")))))))) -> 00 | H17: 12
B18: Sum /2 1) | C18: =IF(B1="","",C17/2) -> 0 | D18: =IF(B1="","",D17/2) -> 0
B19: Afrundet karakter 2) | C19: =IF(AND(C18>=-3,C18<-1.5),-3,IF(AND(C18>=-1.5,C18<2),0,IF(AND(C18>=2,C18<3),2,IF(AND(C18>=3,C18<5.5),4,IF(AND(C18>=5.5,C18<8.5),7,IF(AND(C18>=8.5,C18<11),10,IF(AND(C18>=11,C18<=12),12,""))))))) -> 0 | D19: =IF(AND(D18>=-3,D18<-1.5),-3,IF(AND(D18>=-1.5,D18<2),0,IF(AND(D18>=2,D18<3),2,IF(AND(D18>=3,D18<5.5),4,IF(AND(D18>=5.5,D18<8.5),7,IF(AND(D18>=8.5,D18<11),10,IF(AND(D18>=11,D18<=12),12,""))))))) -> 0 | E19: Endelig | F19: =IF(B1="","",F15*1/3+F17*2/3) -> 0 | H19: Afrunding af endelig karakter, til medaljer
B20: Sum/2 | C20: =IF(B1="","",(C19+D19)/2) -> 0 | H20: Kræver mindst 4 i teori:
B21: Endelig karakter for den teoretiske del 3) | C21: =IF(B1="","",IF(AND((C19+D19)/2>=-3,(C19+D19)/2<-1.5),-3,IF((C19+D19)/2=-1.5,IF(C19>D19,0,-3),IF(AND((C19+D19)/2>-1.5,(C19+D19)/2<2),0,IF(AND((C19+D19)/2>=2,(C19+D19)/2<3),2,IF((C19+D19)/2=3,IF(C19>D19,4,2),IF(AND((C19+D19)/2>3,(C19+D19)/2<5.5),4,IF((C19+D19)/2=5.5,IF(C19>D19,7,4),IF(AND((C19+D19)/2>5.5,(C19+D19)/2<8.5),7,IF((C19+D19)/2=8.5,IF(C19>D19,10,7),IF(AND((C19+D19)/2>8.5,(C19+D19)/2<11),10,IF((C19+D19)/2=11,IF(C19>D19,12,10),IF(AND((C19+D19)/2>11,(C19+D19)/2<=12),12,"Fejl 40"))))))))))))) -> 0 | H21: Er antaget med ros | J21: 8,0 - 10,0
A22: =B1 -> Elev 2 | C22: =IF(B1="","",IF(C10<2,"Er ikke bestået",IF(C21<2,"Er ikke bestået",IF(AND(F19>=-3,F19<2),"Er ikke bestået",IF(AND(F19>=2,F19<=7.9),"Er antaget",IF(AND(C21>=2,C21<4),"Er antaget",IF(AND(F19>=8,F19<=10),"Er antaget med ros",IF(AND(F19>=10.1,F19<=11.9),"Er antaget med bronze",IF(AND(F19>11.9,F19<=12),"Er antaget med sølv",IF((F19>12),"Fejl i indtastningen","F")))))))))) -> Er ikke bestået
H23: Er antaget med bronze | J23: 10,1 - 11,9
A24: 1) Summen af delkaraktererne divideres med antallet af discipliner 2) Tallet afrundes til nærmeste karakter på 7-trinsskalaen 3) Er censor og eksaminator ikke enige om en samlet karakter, lægges censors og eksaminators karakterer sammen, divideres med 2 og afrundes til nærmeste karakter i 7-trinsskalaen. Hvis gennemsnittet ligger midt imellem de to karakterer, er den endelige karakter den nærmeste højere karakter, hvis det er censor har givet den højeste karakter, og ellers den nærmeste lavere karakter, hvis censor har givet den laveste karakter 4) Sum af karaktererne for basisdel og fagområde lægges sammen, divideres med 2 og afrundes til nærmeste karakter i 7-trinsskalaen.
H25: Er antaget med sølv | J25: 12
B33: Dato og underskrift censor | E33: Dato og underskrift eksaminator

Sheet Elev nr. 3
A1: Elevnavn: | B1: =IF(Karakterskema!C12=0,"",Karakterskema!C12) -> Elev 3 | D1: Cpr.nr. | E1: =IF(B1="","",Karakterskema!D12) -> 010101-0003 | G1: Dato: | H1: =Karakterskema!$E$3 -> 0 | J1: Karakterskema
A3: Den praktiske del vægter 2/3 | B3: Discipliner: | E3: Fagområde: | H3: Afrunding af karaktererne for teori og praktik
C4: Censor | D4: Eksaminator | E4: =IF(B1="","",IF(Karakterskema!A12=Karakterskema!$J$8,Karakterskema!$K$8,IF(Karakterskema!A12=Karakterskema!$J$9,Karakterskema!$K$9,IF(Karakterskema!A12=Karakterskema!$J$10,Karakterskema!$K$10,IF(Karakterskema!A12=Karakterskema!$J$11,Karakterskema!$K$11,IF(Karakterskema!A12=Karakterskema!$J$12,Karakterskema!$K$12,0)))))) -> Energi fagområde | H4: Karakter | I4: Snit
B5: Samlet praktikkarakter | H5: -03
B6: Sum af delkarakterer | C6: =IF(B1="","",SUM(C5:C5)) -> 0 | D6: =IF(B1="","",SUM(D5:D5)) -> 0 | H6: 00
B7: Sum/1 1) | C7: =IF(B1="","",C6/1) -> 0 | D7: =IF(B1="","",D6/1) -> 0 | E7: =IF(B1="","",IF(C10<2,"Er ikke bestået",IF(C21<2,"Er ikke bestået",IF(AND(F19>=-3,F19<2),"Er ikke bestået",IF(AND(F19>=2,F19<=7.9),"Er antaget",IF(AND(C21>=2,C21<4),"Er antaget",IF(AND(F19>=8,F19<=10),"Er antaget med ros",IF(AND(F19>=10.1,F19<=11.9),"Er antaget med bronze",IF(AND(F19>11.9,F19<=12),"Er antaget med sølv",IF((F19>12),"Fejl i indtastningen","F")))))))))) -> Er ikke bestået | H7: Må ikke rundes op | I7: 1.99
B8: Afrundet karakter 2) | C8: =IF(AND(C7>=-3,C7<-1.5),-3,IF(AND(C7>=-1.5,C7<2),0,IF(AND(C7>=2,C7<3),2,IF(AND(C7>=3,C7<5.5),4,IF(AND(C7>=5.5,C7<8.5),7,IF(AND(C7>=8.5,C7<11),10,IF(AND(C7>=11,C7<=12),12,""))))))) -> 0 | D8: =IF(AND(D7>=-3,D7<-1.5),-3,IF(AND(D7>=-1.5,D7<2),0,IF(AND(D7>=2,D7<3),2,IF(AND(D7>=3,D7<5.5),4,IF(AND(D7>=5.5,D7<8.5),7,IF(AND(D7>=8.5,D7<11),10,IF(AND(D7>=11,D7<=12),12,""))))))) -> 0 | H8: 2
B9: Sum/2 | C9: =IF(B1="","",(C8+D8)/2) -> 0
B10: Endelig karakter for den praktiske del 4) | C10: =IF(B1="","",IF(AND((C8+D8)/2>=-3,(C8+D8)/2<-1.5),-3,IF((C8+D8)/2=-1.5,IF(C8>D8,0,-3),IF(AND((C8+D8)/2>-1.5,(C8+D8)/2<2),0,IF(AND((C8+D8)/2>=2,(C8+D8)/2<3),2,IF((C8+D8)/2=3,IF(C8>D8,4,2),IF(AND((C8+D8)/2>3,(C8+D8)/2<5.5),4,IF((C8+D8)/2=5.5,IF(C8>D8,7,4),IF(AND((C8+D8)/2>5.5,(C8+D8)/2<8.5),7,IF((C8+D8)/2=8.5,IF(C8>D8,10,7),IF(AND((C8+D8)/2>8.5,(C8+D8)/2<11),10,IF((C8+D8)/2=11,IF(C8>D8,12,10),IF(AND((C8+D8)/2>11,(C8+D8)/2<=12),12,"Fejl 40"))))))))))))) -> 0 | H10: Runder op ved | I10: 3
H11: 4
H12: Runder op ved | I12: 5.5
A13: Den teoretiske del vægter 1/3 | B13: Discipliner: | C13: Selvvalgt fagområde | E13: Easy/kontor | H13: 7
C14: Censor | D14: Eksaminator | H14: Runder op ved | I14: 8.5
B15: Mundtlig fremstilling | E15: Teori: | F15: =IF(B1="","",IF(C21=-3,"-03",IF(C21=0,"00",IF(C21=2,"02",IF(C21=4,"4",IF(C21=7,"7",IF(C21=10,"10",IF(C21=12,"12","Fejl 40")))))))) -> 00 | H15: 10
B16: Dokumentation | H16: Runder op | I16: 11
B17: Sum af karakterer | C17: =IF(B1="","",SUM(C15:C16)) -> 0 | D17: =IF(B1="","",SUM(D15:D16)) -> 0 | E17: Praktik: | F17: =IF(B1="","",IF(C10=-3,"-03",IF(C10=0,"00",IF(C10=2,"02",IF(C10=4,"4",IF(C10=7,"7",IF(C10=10,"10",IF(C10=12,"12","Fejl 40")))))))) -> 00 | H17: 12
B18: Sum /2 1) | C18: =IF(B1="","",C17/2) -> 0 | D18: =IF(B1="","",D17/2) -> 0
B19: Afrundet karakter 2) | C19: =IF(AND(C18>=-3,C18<-1.5),-3,IF(AND(C18>=-1.5,C18<2),0,IF(AND(C18>=2,C18<3),2,IF(AND(C18>=3,C18<5.5),4,IF(AND(C18>=5.5,C18<8.5),7,IF(AND(C18>=8.5,C18<11),10,IF(AND(C18>=11,C18<=12),12,""))))))) -> 0 | D19: =IF(AND(D18>=-3,D18<-1.5),-3,IF(AND(D18>=-1.5,D18<2),0,IF(AND(D18>=2,D18<3),2,IF(AND(D18>=3,D18<5.5),4,IF(AND(D18>=5.5,D18<8.5),7,IF(AND(D18>=8.5,D18<11),10,IF(AND(D18>=11,D18<=12),12,""))))))) -> 0 | E19: Endelig | F19: =IF(B1="","",F15*1/3+F17*2/3) -> 0 | H19: Afrunding af endelig karakter, til medaljer
B20: Sum/2 | C20: =IF(B1="","",(C19+D19)/2) -> 0 | H20: Kræver mindst 4 i teori:
B21: Endelig karakter for den teoretiske del 3) | C21: =IF(B1="","",IF(AND((C19+D19)/2>=-3,(C19+D19)/2<-1.5),-3,IF((C19+D19)/2=-1.5,IF(C19>D19,0,-3),IF(AND((C19+D19)/2>-1.5,(C19+D19)/2<2),0,IF(AND((C19+D19)/2>=2,(C19+D19)/2<3),2,IF((C19+D19)/2=3,IF(C19>D19,4,2),IF(AND((C19+D19)/2>3,(C19+D19)/2<5.5),4,IF((C19+D19)/2=5.5,IF(C19>D19,7,4),IF(AND((C19+D19)/2>5.5,(C19+D19)/2<8.5),7,IF((C19+D19)/2=8.5,IF(C19>D19,10,7),IF(AND((C19+D19)/2>8.5,(C19+D19)/2<11),10,IF((C19+D19)/2=11,IF(C19>D19,12,10),IF(AND((C19+D19)/2>11,(C19+D19)/2<=12),12,"Fejl 40"))))))))))))) -> 0 | H21: Er antaget med ros | J21: 8,0 - 10,0
A22: =B1 -> Elev 3 | C22: =IF(B1="","",IF(C10<2,"Er ikke bestået",IF(C21<2,"Er ikke bestået",IF(AND(F19>=-3,F19<2),"Er ikke bestået",IF(AND(F19>=2,F19<=7.9),"Er antaget",IF(AND(C21>=2,C21<4),"Er antaget",IF(AND(F19>=8,F19<=10),"Er antaget med ros",IF(AND(F19>=10.1,F19<=11.9),"Er antaget med bronze",IF(AND(F19>11.9,F19<=12),"Er antaget med sølv",IF((F19>12),"Fejl i indtastningen","F")))))))))) -> Er ikke bestået
H23: Er antaget med bronze | J23: 10,1 - 11,9
A24: 1) Summen af delkaraktererne divideres med antallet af discipliner 2) Tallet afrundes til nærmeste karakter på 7-trinsskalaen 3) Er censor og eksaminator ikke enige om en samlet karakter, lægges censors og eksaminators karakterer sammen, divideres med 2 og afrundes til nærmeste karakter i 7-trinsskalaen. Hvis gennemsnittet ligger midt imellem de to karakterer, er den endelige karakter den nærmeste højere karakter, hvis det er censor har givet den højeste karakter, og ellers den nærmeste lavere karakter, hvis censor har givet den laveste karakter 4) Sum af karaktererne for basisdel og fagområde lægges sammen, divideres med 2 og afrundes til nærmeste karakter i 7-trinsskalaen.
H25: Er antaget med sølv | J25: 12
B33: Dato og underskrift censor | E33: Dato og underskrift eksaminator

Sheet Elev nr. 4
A1: Elevnavn: | B1: =IF(Karakterskema!C13=0,"",Karakterskema!C13) -> Elev 4 | D1: Cpr.nr. | E1: =IF(B1="","",Karakterskema!D13) -> 010101-0004 | G1: Dato: | H1: =Karakterskema!$E$3 -> 0 | J1: Karakterskema
A3: Den praktiske del vægter 2/3 | B3: Discipliner: | E3: Fagområde: | H3: Afrunding af karaktererne for teori og praktik
C4: Censor | D4: Eksaminator | E4: =IF(B1="","",IF(Karakterskema!A13=Karakterskema!$J$8,Karakterskema!$K$8,IF(Karakterskema!A13=Karakterskema!$J$9,Karakterskema!$K$9,IF(Karakterskema!A13=Karakterskema!$J$10,Karakterskema!$K$10,IF(Karakterskema!A13=Karakterskema!$J$11,Karakterskema!$K$11,IF(Karakterskema!A13=Karakterskema!$J$12,Karakterskema!$K$12,0)))))) -> Restaurering og renoverings fagområde | H4: Karakter | I4: Snit
B5: Samlet praktikkarakter | H5: -03
B6: Sum af delkarakterer | C6: =IF(B1="","",SUM(C5:C5)) -> 0 | D6: =IF(B1="","",SUM(D5:D5)) -> 0 | H6: 00
B7: Sum/1 1) | C7: =IF(B1="","",C6/1) -> 0 | D7: =IF(B1="","",D6/1) -> 0 | E7: =IF(B1="","",IF(C10<2,"Er ikke bestået",IF(C21<2,"Er ikke bestået",IF(AND(F19>=-3,F19<2),"Er ikke bestået",IF(AND(F19>=2,F19<=7.9),"Er antaget",IF(AND(C21>=2,C21<4),"Er antaget",IF(AND(F19>=8,F19<=10),"Er antaget med ros",IF(AND(F19>=10.1,F19<=11.9),"Er antaget med bronze",IF(AND(F19>11.9,F19<=12),"Er antaget med sølv",IF((F19>12),"Fejl i indtastningen","F")))))))))) -> Er ikke bestået | H7: Må ikke rundes op | I7: 1.99
B8: Afrundet karakter 2) | C8: =IF(AND(C7>=-3,C7<-1.5),-3,IF(AND(C7>=-1.5,C7<2),0,IF(AND(C7>=2,C7<3),2,IF(AND(C7>=3,C7<5.5),4,IF(AND(C7>=5.5,C7<8.5),7,IF(AND(C7>=8.5,C7<11),10,IF(AND(C7>=11,C7<=12),12,""))))))) -> 0 | D8: =IF(AND(D7>=-3,D7<-1.5),-3,IF(AND(D7>=-1.5,D7<2),0,IF(AND(D7>=2,D7<3),2,IF(AND(D7>=3,D7<5.5),4,IF(AND(D7>=5.5,D7<8.5),7,IF(AND(D7>=8.5,D7<11),10,IF(AND(D7>=11,D7<=12),12,""))))))) -> 0 | H8: 2
B9: Sum/2 | C9: =IF(B1="","",(C8+D8)/2) -> 0
B10: Endelig karakter for den praktiske del 4) | C10: =IF(B1="","",IF(AND((C8+D8)/2>=-3,(C8+D8)/2<-1.5),-3,IF((C8+D8)/2=-1.5,IF(C8>D8,0,-3),IF(AND((C8+D8)/2>-1.5,(C8+D8)/2<2),0,IF(AND((C8+D8)/2>=2,(C8+D8)/2<3),2,IF((C8+D8)/2=3,IF(C8>D8,4,2),IF(AND((C8+D8)/2>3,(C8+D8)/2<5.5),4,IF((C8+D8)/2=5.5,IF(C8>D8,7,4),IF(AND((C8+D8)/2>5.5,(C8+D8)/2<8.5),7,IF((C8+D8)/2=8.5,IF(C8>D8,10,7),IF(AND((C8+D8)/2>8.5,(C8+D8)/2<11),10,IF((C8+D8)/2=11,IF(C8>D8,12,10),IF(AND((C8+D8)/2>11,(C8+D8)/2<=12),12,"Fejl 40"))))))))))))) -> 0 | H10: Runder op ved | I10: 3
H11: 4
H12: Runder op ved | I12: 5.5
A13: Den teoretiske del vægter 1/3 | B13: Discipliner: | C13: Selvvalgt fagområde | E13: Easy/kontor | H13: 7
C14: Censor | D14: Eksaminator | H14: Runder op ved | I14: 8.5
B15: Mundtlig fremstilling | E15: Teori: | F15: =IF(B1="","",IF(C21=-3,"-03",IF(C21=0,"00",IF(C21=2,"02",IF(C21=4,"4",IF(C21=7,"7",IF(C21=10,"10",IF(C21=12,"12","Fejl 40")))))))) -> 00 | H15: 10
B16: Dokumentation | H16: Runder op | I16: 11
B17: Sum af karakterer | C17: =IF(B1="","",SUM(C15:C16)) -> 0 | D17: =IF(B1="","",SUM(D15:D16)) -> 0 | E17: Praktik: | F17: =IF(B1="","",IF(C10=-3,"-03",IF(C10=0,"00",IF(C10=2,"02",IF(C10=4,"4",IF(C10=7,"7",IF(C10=10,"10",IF(C10=12,"12","Fejl 40")))))))) -> 00 | H17: 12
B18: Sum /2 1) | C18: =IF(B1="","",C17/2) -> 0 | D18: =IF(B1="","",D17/2) -> 0
B19: Afrundet karakter 2) | C19: =IF(AND(C18>=-3,C18<-1.5),-3,IF(AND(C18>=-1.5,C18<2),0,IF(AND(C18>=2,C18<3),2,IF(AND(C18>=3,C18<5.5),4,IF(AND(C18>=5.5,C18<8.5),7,IF(AND(C18>=8.5,C18<11),10,IF(AND(C18>=11,C18<=12),12,""))))))) -> 0 | D19: =IF(AND(D18>=-3,D18<-1.5),-3,IF(AND(D18>=-1.5,D18<2),0,IF(AND(D18>=2,D18<3),2,IF(AND(D18>=3,D18<5.5),4,IF(AND(D18>=5.5,D18<8.5),7,IF(AND(D18>=8.5,D18<11),10,IF(AND(D18>=11,D18<=12),12,""))))))) -> 0 | E19: Endelig | F19: =IF(B1="","",F15*1/3+F17*2/3) -> 0 | H19: Afrunding af endelig karakter, til medaljer
B20: Sum/2 | C20: =IF(B1="","",(C19+D19)/2) -> 0 | H20: Kræver mindst 4 i teori:
B21: Endelig karakter for den teoretiske del 3) | C21: =IF(B1="","",IF(AND((C19+D19)/2>=-3,(C19+D19)/2<-1.5),-3,IF((C19+D19)/2=-1.5,IF(C19>D19,0,-3),IF(AND((C19+D19)/2>-1.5,(C19+D19)/2<2),0,IF(AND((C19+D19)/2>=2,(C19+D19)/2<3),2,IF((C19+D19)/2=3,IF(C19>D19,4,2),IF(AND((C19+D19)/2>3,(C19+D19)/2<5.5),4,IF((C19+D19)/2=5.5,IF(C19>D19,7,4),IF(AND((C19+D19)/2>5.5,(C19+D19)/2<8.5),7,IF((C19+D19)/2=8.5,IF(C19>D19,10,7),IF(AND((C19+D19)/2>8.5,(C19+D19)/2<11),10,IF((C19+D19)/2=11,IF(C19>D19,12,10),IF(AND((C19+D19)/2>11,(C19+D19)/2<=12),12,"Fejl 40"))))))))))))) -> 0 | H21: Er antaget med ros | J21: 8,0 - 10,0
A22: =B1 -> Elev 4 | C22: =IF(B1="","",IF(C10<2,"Er ikke bestået",IF(C21<2,"Er ikke bestået",IF(AND(F19>=-3,F19<2),"Er ikke bestået",IF(AND(F19>=2,F19<=7.9),"Er antaget",IF(AND(C21>=2,C21<4),"Er antaget",IF(AND(F19>=8,F19<=10),"Er antaget med ros",IF(AND(F19>=10.1,F19<=11.9),"Er antaget med bronze",IF(AND(F19>11.9,F19<=12),"Er antaget med sølv",IF((F19>12),"Fejl i indtastningen","F")))))))))) -> Er ikke bestået
H23: Er antaget med bronze | J23: 10,1 - 11,9
A24: 1) Summen af delkaraktererne divideres med antallet af discipliner 2) Tallet afrundes til nærmeste karakter på 7-trinsskalaen 3) Er censor og eksaminator ikke enige om en samlet karakter, lægges censors og eksaminators karakterer sammen, divideres med 2 og afrundes til nærmeste karakter i 7-trinsskalaen. Hvis gennemsnittet ligger midt imellem de to karakterer, er den endelige karakter den nærmeste højere karakter, hvis det er censor har givet den højeste karakter, og ellers den nærmeste lavere karakter, hvis censor har givet den laveste karakter 4) Sum af karaktererne for basisdel og fagområde lægges sammen, divideres med 2 og afrundes til nærmeste karakter i 7-trinsskalaen.
H25: Er antaget med sølv | J25: 12
B33: Dato og underskrift censor | E33: Dato og underskrift eksaminator

Sheet Elev nr. 5
A1: Elevnavn: | B1: =IF(Karakterskema!C14=0,"",Karakterskema!C14) -> Elev 5 | D1: Cpr.nr. | E1: =IF(B1="","",Karakterskema!D14) -> 010101-0005 | G1: Dato: | H1: =Karakterskema!$E$3 -> 0 | J1: Karakterskema
A3: Den praktiske del vægter 2/3 | B3: Discipliner: | E3: Fagområde: | H3: Afrunding af karaktererne for teori og praktik
C4: Censor | D4: Eksaminator | E4: =IF(B1="","",IF(Karakterskema!A14=Karakterskema!$J$8,Karakterskema!$K$8,IF(Karakterskema!A14=Karakterskema!$J$9,Karakterskema!$K$9,IF(Karakterskema!A14=Karakterskema!$J$10,Karakterskema!$K$10,IF(Karakterskema!A14=Karakterskema!$J$11,Karakterskema!$K$11,IF(Karakterskema!A14=Karakterskema!$J$12,Karakterskema!$K$12,0)))))) -> Tag fagområde | H4: Karakter | I4: Snit
B5: Samlet praktikkarakter | H5: -03
B6: Sum af delkarakterer | C6: =IF(B1="","",SUM(C5:C5)) -> 0 | D6: =IF(B1="","",SUM(D5:D5)) -> 0 | H6: 00
B7: Sum/1 1) | C7: =IF(B1="","",C6/1) -> 0 | D7: =IF(B1="","",D6/1) -> 0 | E7: =IF(B1="","",IF(C10<2,"Er ikke bestået",IF(C21<2,"Er ikke bestået",IF(AND(F19>=-3,F19<2),"Er ikke bestået",IF(AND(F19>=2,F19<=7.9),"Er antaget",IF(AND(C21>=2,C21<4),"Er antaget",IF(AND(F19>=8,F19<=10),"Er antaget med ros",IF(AND(F19>=10.1,F19<=11.9),"Er antaget med bronze",IF(AND(F19>11.9,F19<=12),"Er antaget med sølv",IF((F19>12),"Fejl i indtastningen","F")))))))))) -> Er ikke bestået | H7: Må ikke rundes op | I7: 1.99
B8: Afrundet karakter 2) | C8: =IF(AND(C7>=-3,C7<-1.5),-3,IF(AND(C7>=-1.5,C7<2),0,IF(AND(C7>=2,C7<3),2,IF(AND(C7>=3,C7<5.5),4,IF(AND(C7>=5.5,C7<8.5),7,IF(AND(C7>=8.5,C7<11),10,IF(AND(C7>=11,C7<=12),12,""))))))) -> 0 | D8: =IF(AND(D7>=-3,D7<-1.5),-3,IF(AND(D7>=-1.5,D7<2),0,IF(AND(D7>=2,D7<3),2,IF(AND(D7>=3,D7<5.5),4,IF(AND(D7>=5.5,D7<8.5),7,IF(AND(D7>=8.5,D7<11),10,IF(AND(D7>=11,D7<=12),12,""))))))) -> 0 | H8: 2
B9: Sum/2 | C9: =IF(B1="","",(C8+D8)/2) -> 0
B10: Endelig karakter for den praktiske del 4) | C10: =IF(B1="","",IF(AND((C8+D8)/2>=-3,(C8+D8)/2<-1.5),-3,IF((C8+D8)/2=-1.5,IF(C8>D8,0,-3),IF(AND((C8+D8)/2>-1.5,(C8+D8)/2<2),0,IF(AND((C8+D8)/2>=2,(C8+D8)/2<3),2,IF((C8+D8)/2=3,IF(C8>D8,4,2),IF(AND((C8+D8)/2>3,(C8+D8)/2<5.5),4,IF((C8+D8)/2=5.5,IF(C8>D8,7,4),IF(AND((C8+D8)/2>5.5,(C8+D8)/2<8.5),7,IF((C8+D8)/2=8.5,IF(C8>D8,10,7),IF(AND((C8+D8)/2>8.5,(C8+D8)/2<11),10,IF((C8+D8)/2=11,IF(C8>D8,12,10),IF(AND((C8+D8)/2>11,(C8+D8)/2<=12),12,"Fejl 40"))))))))))))) -> 0 | H10: Runder op ved | I10: 3
H11: 4
H12: Runder op ved | I12: 5.5
A13: Den teoretiske del vægter 1/3 | B13: Discipliner: | C13: Selvvalgt fagområde | E13: Easy/kontor | H13: 7
C14: Censor | D14: Eksaminator | H14: Runder op ved | I14: 8.5
B15: Mundtlig fremstilling | E15: Teori: | F15: =IF(B1="","",IF(C21=-3,"-03",IF(C21=0,"00",IF(C21=2,"02",IF(C21=4,"4",IF(C21=7,"7",IF(C21=10,"10",IF(C21=12,"12","Fejl 40")))))))) -> 00 | H15: 10
B16: Dokumentation | H16: Runder op | I16: 11
B17: Sum af karakterer | C17: =IF(B1="","",SUM(C15:C16)) -> 0 | D17: =IF(B1="","",SUM(D15:D16)) -> 0 | E17: Praktik: | F17: =IF(B1="","",IF(C10=-3,"-03",IF(C10=0,"00",IF(C10=2,"02",IF(C10=4,"4",IF(C10=7,"7",IF(C10=10,"10",IF(C10=12,"12","Fejl 40")))))))) -> 00 | H17: 12
B18: Sum /2 1) | C18: =IF(B1="","",C17/2) -> 0 | D18: =IF(B1="","",D17/2) -> 0
B19: Afrundet karakter 2) | C19: =IF(AND(C18>=-3,C18<-1.5),-3,IF(AND(C18>=-1.5,C18<2),0,IF(AND(C18>=2,C18<3),2,IF(AND(C18>=3,C18<5.5),4,IF(AND(C18>=5.5,C18<8.5),7,IF(AND(C18>=8.5,C18<11),10,IF(AND(C18>=11,C18<=12),12,""))))))) -> 0 | D19: =IF(AND(D18>=-3,D18<-1.5),-3,IF(AND(D18>=-1.5,D18<2),0,IF(AND(D18>=2,D18<3),2,IF(AND(D18>=3,D18<5.5),4,IF(AND(D18>=5.5,D18<8.5),7,IF(AND(D18>=8.5,D18<11),10,IF(AND(D18>=11,D18<=12),12,""))))))) -> 0 | E19: Endelig | F19: =IF(B1="","",F15*1/3+F17*2/3) -> 0 | H19: Afrunding af endelig karakter, til medaljer
B20: Sum/2 | C20: =IF(B1="","",(C19+D19)/2) -> 0 | H20: Kræver mindst 4 i teori:
B21: Endelig karakter for den teoretiske del 3) | C21: =IF(B1="","",IF(AND((C19+D19)/2>=-3,(C19+D19)/2<-1.5),-3,IF((C19+D19)/2=-1.5,IF(C19>D19,0,-3),IF(AND((C19+D19)/2>-1.5,(C19+D19)/2<2),0,IF(AND((C19+D19)/2>=2,(C19+D19)/2<3),2,IF((C19+D19)/2=3,IF(C19>D19,4,2),IF(AND((C19+D19)/2>3,(C19+D19)/2<5.5),4,IF((C19+D19)/2=5.5,IF(C19>D19,7,4),IF(AND((C19+D19)/2>5.5,(C19+D19)/2<8.5),7,IF((C19+D19)/2=8.5,IF(C19>D19,10,7),IF(AND((C19+D19)/2>8.5,(C19+D19)/2<11),10,IF((C19+D19)/2=11,IF(C19>D19,12,10),IF(AND((C19+D19)/2>11,(C19+D19)/2<=12),12,"Fejl 40"))))))))))))) -> 0 | H21: Er antaget med ros | J21: 8,0 - 10,0
A22: =B1 -> Elev 5 | C22: =IF(B1="","",IF(C10<2,"Er ikke bestået",IF(C21<2,"Er ikke bestået",IF(AND(F19>=-3,F19<2),"Er ikke bestået",IF(AND(F19>=2,F19<=7.9),"Er antaget",IF(AND(C21>=2,C21<4),"Er antaget",IF(AND(F19>=8,F19<=10),"Er antaget med ros",IF(AND(F19>=10.1,F19<=11.9),"Er antaget med bronze",IF(AND(F19>11.9,F19<=12),"Er antaget med sølv",IF((F19>12),"Fejl i indtastningen","F")))))))))) -> Er ikke bestået
H23: Er antaget med bronze | J23: 10,1 - 11,9
A24: 1) Summen af delkaraktererne divideres med antallet af discipliner 2) Tallet afrundes til nærmeste karakter på 7-trinsskalaen 3) Er censor og eksaminator ikke enige om en samlet karakter, lægges censors og eksaminators karakterer sammen, divideres med 2 og afrundes til nærmeste karakter i 7-trinsskalaen. Hvis gennemsnittet ligger midt imellem de to karakterer, er den endelige karakter den nærmeste højere karakter, hvis det er censor har givet den højeste karakter, og ellers den nærmeste lavere karakter, hvis censor har givet den laveste karakter 4) Sum af karaktererne for basisdel og fagområde lægges sammen, divideres med 2 og afrundes til nærmeste karakter i 7-trinsskalaen.
H25: Er antaget med sølv | J25: 12
B33: Dato og underskrift censor | E33: Dato og underskrift eksaminator

Sheet Elev nr. 6
A1: Elevnavn: | B1: =IF(Karakterskema!C15=0,"",Karakterskema!C15) | D1: Cpr.nr. | E1: =IF(B1="","",Karakterskema!D15) | G1: Dato: | H1: =Karakterskema!$E$3 -> 0 | J1: Karakterskema
A3: Den praktiske del vægter 2/3 | B3: Discipliner: | E3: Fagområde: | H3: Afrunding af karaktererne for teori og praktik
C4: Censor | D4: Eksaminator | E4: =IF(B1="","",IF(Karakterskema!A15=Karakterskema!$J$8,Karakterskema!$K$8,IF(Karakterskema!A15=Karakterskema!$J$9,Karakterskema!$K$9,IF(Karakterskema!A15=Karakterskema!$J$10,Karakterskema!$K$10,IF(Karakterskema!A15=Karakterskema!$J$11,Karakterskema!$K$11,IF(Karakterskema!A15=Karakterskema!$J$12,Karakterskema!$K$12,0)))))) | H4: Karakter | I4: Snit
B5: Samlet praktikkarakter | H5: -03
B6: Sum af delkarakterer | C6: =IF(B1="","",SUM(C5:C5)) | D6: =IF(B1="","",SUM(D5:D5)) | H6: 00
B7: Sum/1 1) | C7: =IF(B1="","",C6/1) | D7: =IF(B1="","",D6/1) | E7: =IF(B1="","",IF(C10<2,"Er ikke bestået",IF(C21<2,"Er ikke bestået",IF(AND(F19>=-3,F19<2),"Er ikke bestået",IF(AND(F19>=2,F19<=7.9),"Er antaget",IF(AND(C21>=2,C21<4),"Er antaget",IF(AND(F19>=8,F19<=10),"Er antaget med ros",IF(AND(F19>=10.1,F19<=11.9),"Er antaget med bronze",IF(AND(F19>11.9,F19<=12),"Er antaget med sølv",IF((F19>12),"Fejl i indtastningen","F")))))))))) | H7: Må ikke rundes op | I7: 1.99
B8: Afrundet karakter 2) | C8: =IF(AND(C7>=-3,C7<-1.5),-3,IF(AND(C7>=-1.5,C7<2),0,IF(AND(C7>=2,C7<3),2,IF(AND(C7>=3,C7<5.5),4,IF(AND(C7>=5.5,C7<8.5),7,IF(AND(C7>=8.5,C7<11),10,IF(AND(C7>=11,C7<=12),12,""))))))) | D8: =IF(AND(D7>=-3,D7<-1.5),-3,IF(AND(D7>=-1.5,D7<2),0,IF(AND(D7>=2,D7<3),2,IF(AND(D7>=3,D7<5.5),4,IF(AND(D7>=5.5,D7<8.5),7,IF(AND(D7>=8.5,D7<11),10,IF(AND(D7>=11,D7<=12),12,""))))))) | H8: 2
B9: Sum/2 | C9: =IF(B1="","",(C8+D8)/2)
B10: Endelig karakter for den praktiske del 4) | C10: =IF(B1="","",IF(AND((C8+D8)/2>=-3,(C8+D8)/2<-1.5),-3,IF((C8+D8)/2=-1.5,IF(C8>D8,0,-3),IF(AND((C8+D8)/2>-1.5,(C8+D8)/2<2),0,IF(AND((C8+D8)/2>=2,(C8+D8)/2<3),2,IF((C8+D8)/2=3,IF(C8>D8,4,2),IF(AND((C8+D8)/2>3,(C8+D8)/2<5.5),4,IF((C8+D8)/2=5.5,IF(C8>D8,7,4),IF(AND((C8+D8)/2>5.5,(C8+D8)/2<8.5),7,IF((C8+D8)/2=8.5,IF(C8>D8,10,7),IF(AND((C8+D8)/2>8.5,(C8+D8)/2<11),10,IF((C8+D8)/2=11,IF(C8>D8,12,10),IF(AND((C8+D8)/2>11,(C8+D8)/2<=12),12,"Fejl 40"))))))))))))) | H10: Runder op ved | I10: 3
H11: 4
H12: Runder op ved | I12: 5.5
A13: Den teoretiske del vægter 1/3 | B13: Discipliner: | C13: Selvvalgt fagområde | E13: Easy/kontor | H13: 7
C14: Censor | D14: Eksaminator | H14: Runder op ved | I14: 8.5
B15: Mundtlig fremstilling | E15: Teori: | F15: =IF(B1="","",IF(C21=-3,"-03",IF(C21=0,"00",IF(C21=2,"02",IF(C21=4,"4",IF(C21=7,"7",IF(C21=10,"10",IF(C21=12,"12","Fejl 40")))))))) | H15: 10
B16: Dokumentation | H16: Runder op | I16: 11
B17: Sum af karakterer | C17: =IF(B1="","",SUM(C15:C16)) | D17: =IF(B1="","",SUM(D15:D16)) | E17: Praktik: | F17: =IF(B1="","",IF(C10=-3,"-03",IF(C10=0,"00",IF(C10=2,"02",IF(C10=4,"4",IF(C10=7,"7",IF(C10=10,"10",IF(C10=12,"12","Fejl 40")))))))) | H17: 12
B18: Sum /2 1) | C18: =IF(B1="","",C17/2) | D18: =IF(B1="","",D17/2)
B19: Afrundet karakter 2) | C19: =IF(AND(C18>=-3,C18<-1.5),-3,IF(AND(C18>=-1.5,C18<2),0,IF(AND(C18>=2,C18<3),2,IF(AND(C18>=3,C18<5.5),4,IF(AND(C18>=5.5,C18<8.5),7,IF(AND(C18>=8.5,C18<11),10,IF(AND(C18>=11,C18<=12),12,""))))))) | D19: =IF(AND(D18>=-3,D18<-1.5),-3,IF(AND(D18>=-1.5,D18<2),0,IF(AND(D18>=2,D18<3),2,IF(AND(D18>=3,D18<5.5),4,IF(AND(D18>=5.5,D18<8.5),7,IF(AND(D18>=8.5,D18<11),10,IF(AND(D18>=11,D18<=12),12,""))))))) | E19: Endelig | F19: =IF(B1="","",F15*1/3+F17*2/3) | H19: Afrunding af endelig karakter, til medaljer
B20: Sum/2 | C20: =IF(B1="","",(C19+D19)/2) | H20: Kræver mindst 4 i teori:
B21: Endelig karakter for den teoretiske del 3) | C21: =IF(B1="","",IF(AND((C19+D19)/2>=-3,(C19+D19)/2<-1.5),-3,IF((C19+D19)/2=-1.5,IF(C19>D19,0,-3),IF(AND((C19+D19)/2>-1.5,(C19+D19)/2<2),0,IF(AND((C19+D19)/2>=2,(C19+D19)/2<3),2,IF((C19+D19)/2=3,IF(C19>D19,4,2),IF(AND((C19+D19)/2>3,(C19+D19)/2<5.5),4,IF((C19+D19)/2=5.5,IF(C19>D19,7,4),IF(AND((C19+D19)/2>5.5,(C19+D19)/2<8.5),7,IF((C19+D19)/2=8.5,IF(C19>D19,10,7),IF(AND((C19+D19)/2>8.5,(C19+D19)/2<11),10,IF((C19+D19)/2=11,IF(C19>D19,12,10),IF(AND((C19+D19)/2>11,(C19+D19)/2<=12),12,"Fejl 40"))))))))))))) | H21: Er antaget med ros | J21: 8,0 - 10,0
A22: =B1 | C22: =IF(B1="","",IF(C10<2,"Er ikke bestået",IF(C21<2,"Er ikke bestået",IF(AND(F19>=-3,F19<2),"Er ikke bestået",IF(AND(F19>=2,F19<=7.9),"Er antaget",IF(AND(C21>=2,C21<4),"Er antaget",IF(AND(F19>=8,F19<=10),"Er antaget med ros",IF(AND(F19>=10.1,F19<=11.9),"Er antaget med bronze",IF(AND(F19>11.9,F19<=12),"Er antaget med sølv",IF((F19>12),"Fejl i indtastningen","F"))))))))))
H23: Er antaget med bronze | J23: 10,1 - 11,9
A24: 1) Summen af delkaraktererne divideres med antallet af discipliner 2) Tallet afrundes til nærmeste karakter på 7-trinsskalaen 3) Er censor og eksaminator ikke enige om en samlet karakter, lægges censors og eksaminators karakterer sammen, divideres med 2 og afrundes til nærmeste karakter i 7-trinsskalaen. Hvis gennemsnittet ligger midt imellem de to karakterer, er den endelige karakter den nærmeste højere karakter, hvis det er censor har givet den højeste karakter, og ellers den nærmeste lavere karakter, hvis censor har givet den laveste karakter 4) Sum af karaktererne for basisdel og fagområde lægges sammen, divideres med 2 og afrundes til nærmeste karakter i 7-trinsskalaen.
H25: Er antaget med sølv | J25: 12
B33: Dato og underskrift censor | E33: Dato og underskrift eksaminator

Sheet Elev nr. 7
A1: Elevnavn: | B1: =IF(Karakterskema!C16=0,"",Karakterskema!C16) | D1: Cpr.nr. | E1: =IF(B1="","",Karakterskema!D16) | G1: Dato: | H1: =Karakterskema!$E$3 -> 0 | J1: Karakterskema
A3: Den praktiske del vægter 2/3 | B3: Discipliner: | E3: Fagområde: | H3: Afrunding af karaktererne for teori og praktik
C4: Censor | D4: Eksaminator | E4: =IF(B1="","",IF(Karakterskema!A16=Karakterskema!$J$8,Karakterskema!$K$8,IF(Karakterskema!A16=Karakterskema!$J$9,Karakterskema!$K$9,IF(Karakterskema!A16=Karakterskema!$J$10,Karakterskema!$K$10,IF(Karakterskema!A16=Karakterskema!$J$11,Karakterskema!$K$11,IF(Karakterskema!A16=Karakterskema!$J$12,Karakterskema!$K$12,0)))))) | H4: Karakter | I4: Snit
B5: Samlet praktikkarakter | H5: -03
B6: Sum af delkarakterer | C6: =IF(B1="","",SUM(C5:C5)) | D6: =IF(B1="","",SUM(D5:D5)) | H6: 00
B7: Sum/1 1) | C7: =IF(B1="","",C6/1) | D7: =IF(B1="","",D6/1) | E7: =IF(B1="","",IF(C10<2,"Er ikke bestået",IF(C21<2,"Er ikke bestået",IF(AND(F19>=-3,F19<2),"Er ikke bestået",IF(AND(F19>=2,F19<=7.9),"Er antaget",IF(AND(C21>=2,C21<4),"Er antaget",IF(AND(F19>=8,F19<=10),"Er antaget med ros",IF(AND(F19>=10.1,F19<=11.9),"Er antaget med bronze",IF(AND(F19>11.9,F19<=12),"Er antaget med sølv",IF((F19>12),"Fejl i indtastningen","F")))))))))) | H7: Må ikke rundes op | I7: 1.99
B8: Afrundet karakter 2) | C8: =IF(AND(C7>=-3,C7<-1.5),-3,IF(AND(C7>=-1.5,C7<2),0,IF(AND(C7>=2,C7<3),2,IF(AND(C7>=3,C7<5.5),4,IF(AND(C7>=5.5,C7<8.5),7,IF(AND(C7>=8.5,C7<11),10,IF(AND(C7>=11,C7<=12),12,""))))))) | D8: =IF(AND(D7>=-3,D7<-1.5),-3,IF(AND(D7>=-1.5,D7<2),0,IF(AND(D7>=2,D7<3),2,IF(AND(D7>=3,D7<5.5),4,IF(AND(D7>=5.5,D7<8.5),7,IF(AND(D7>=8.5,D7<11),10,IF(AND(D7>=11,D7<=12),12,""))))))) | H8: 2
B9: Sum/2 | C9: =IF(B1="","",(C8+D8)/2)
B10: Endelig karakter for den praktiske del 4) | C10: =IF(B1="","",IF(AND((C8+D8)/2>=-3,(C8+D8)/2<-1.5),-3,IF((C8+D8)/2=-1.5,IF(C8>D8,0,-3),IF(AND((C8+D8)/2>-1.5,(C8+D8)/2<2),0,IF(AND((C8+D8)/2>=2,(C8+D8)/2<3),2,IF((C8+D8)/2=3,IF(C8>D8,4,2),IF(AND((C8+D8)/2>3,(C8+D8)/2<5.5),4,IF((C8+D8)/2=5.5,IF(C8>D8,7,4),IF(AND((C8+D8)/2>5.5,(C8+D8)/2<8.5),7,IF((C8+D8)/2=8.5,IF(C8>D8,10,7),IF(AND((C8+D8)/2>8.5,(C8+D8)/2<11),10,IF((C8+D8)/2=11,IF(C8>D8,12,10),IF(AND((C8+D8)/2>11,(C8+D8)/2<=12),12,"Fejl 40"))))))))))))) | H10: Runder op ved | I10: 3
H11: 4
H12: Runder op ved | I12: 5.5
A13: Den teoretiske del vægter 1/3 | B13: Discipliner: | C13: Selvvalgt fagområde | E13: Easy/kontor | H13: 7
C14: Censor | D14: Eksaminator | H14: Runder op ved | I14: 8.5
B15: Mundtlig fremstilling | E15: Teori: | F15: =IF(B1="","",IF(C21=-3,"-03",IF(C21=0,"00",IF(C21=2,"02",IF(C21=4,"4",IF(C21=7,"7",IF(C21=10,"10",IF(C21=12,"12","Fejl 40")))))))) | H15: 10
B16: Dokumentation | H16: Runder op | I16: 11
B17: Sum af karakterer | C17: =IF(B1="","",SUM(C15:C16)) | D17: =IF(B1="","",SUM(D15:D16)) | E17: Praktik: | F17: =IF(B1="","",IF(C10=-3,"-03",IF(C10=0,"00",IF(C10=2,"02",IF(C10=4,"4",IF(C10=7,"7",IF(C10=10,"10",IF(C10=12,"12","Fejl 40")))))))) | H17: 12
B18: Sum /2 1) | C18: =IF(B1="","",C17/2) | D18: =IF(B1="","",D17/2)
B19: Afrundet karakter 2) | C19: =IF(AND(C18>=-3,C18<-1.5),-3,IF(AND(C18>=-1.5,C18<2),0,IF(AND(C18>=2,C18<3),2,IF(AND(C18>=3,C18<5.5),4,IF(AND(C18>=5.5,C18<8.5),7,IF(AND(C18>=8.5,C18<11),10,IF(AND(C18>=11,C18<=12),12,""))))))) | D19: =IF(AND(D18>=-3,D18<-1.5),-3,IF(AND(D18>=-1.5,D18<2),0,IF(AND(D18>=2,D18<3),2,IF(AND(D18>=3,D18<5.5),4,IF(AND(D18>=5.5,D18<8.5),7,IF(AND(D18>=8.5,D18<11),10,IF(AND(D18>=11,D18<=12),12,""))))))) | E19: Endelig | F19: =IF(B1="","",F15*1/3+F17*2/3) | H19: Afrunding af endelig karakter, til medaljer
B20: Sum/2 | C20: =IF(B1="","",(C19+D19)/2) | H20: Kræver mindst 4 i teori:
B21: Endelig karakter for den teoretiske del 3) | C21: =IF(B1="","",IF(AND((C19+D19)/2>=-3,(C19+D19)/2<-1.5),-3,IF((C19+D19)/2=-1.5,IF(C19>D19,0,-3),IF(AND((C19+D19)/2>-1.5,(C19+D19)/2<2),0,IF(AND((C19+D19)/2>=2,(C19+D19)/2<3),2,IF((C19+D19)/2=3,IF(C19>D19,4,2),IF(AND((C19+D19)/2>3,(C19+D19)/2<5.5),4,IF((C19+D19)/2=5.5,IF(C19>D19,7,4),IF(AND((C19+D19)/2>5.5,(C19+D19)/2<8.5),7,IF((C19+D19)/2=8.5,IF(C19>D19,10,7),IF(AND((C19+D19)/2>8.5,(C19+D19)/2<11),10,IF((C19+D19)/2=11,IF(C19>D19,12,10),IF(AND((C19+D19)/2>11,(C19+D19)/2<=12),12,"Fejl 40"))))))))))))) | H21: Er antaget med ros | J21: 8,0 - 10,0
A22: =B1 | C22: =IF(B1="","",IF(C10<2,"Er ikke bestået",IF(C21<2,"Er ikke bestået",IF(AND(F19>=-3,F19<2),"Er ikke bestået",IF(AND(F19>=2,F19<=7.9),"Er antaget",IF(AND(C21>=2,C21<4),"Er antaget",IF(AND(F19>=8,F19<=10),"Er antaget med ros",IF(AND(F19>=10.1,F19<=11.9),"Er antaget med bronze",IF(AND(F19>11.9,F19<=12),"Er antaget med sølv",IF((F19>12),"Fejl i indtastningen","F"))))))))))
H23: Er antaget med bronze | J23: 10,1 - 11,9
A24: 1) Summen af delkaraktererne divideres med antallet af discipliner 2) Tallet afrundes til nærmeste karakter på 7-trinsskalaen 3) Er censor og eksaminator ikke enige om en samlet karakter, lægges censors og eksaminators karakterer sammen, divideres med 2 og afrundes til nærmeste karakter i 7-trinsskalaen. Hvis gennemsnittet ligger midt imellem de to karakterer, er den endelige karakter den nærmeste højere karakter, hvis det er censor har givet den højeste karakter, og ellers den nærmeste lavere karakter, hvis censor har givet den laveste karakter 4) Sum af karaktererne for basisdel og fagområde lægges sammen, divideres med 2 og afrundes til nærmeste karakter i 7-trinsskalaen.
H25: Er antaget med sølv | J25: 12
B33: Dato og underskrift censor | E33: Dato og underskrift eksaminator

Sheet Elev nr. 8
A1: Elevnavn: | B1: =IF(Karakterskema!C17=0,"",Karakterskema!C17) | D1: Cpr.nr. | E1: =IF(B1="","",Karakterskema!D17) | G1: Dato: | H1: =Karakterskema!$E$3 -> 0 | J1: Karakterskema
A3: Den praktiske del vægter 2/3 | B3: Discipliner: | E3: Fagområde: | H3: Afrunding af karaktererne for teori og praktik
C4: Censor | D4: Eksaminator | E4: =IF(B1="","",IF(Karakterskema!A17=Karakterskema!$J$8,Karakterskema!$K$8,IF(Karakterskema!A17=Karakterskema!$J$9,Karakterskema!$K$9,IF(Karakterskema!A17=Karakterskema!$J$10,Karakterskema!$K$10,IF(Karakterskema!A17=Karakterskema!$J$11,Karakterskema!$K$11,IF(Karakterskema!A17=Karakterskema!$J$12,Karakterskema!$K$12,0)))))) | H4: Karakter | I4: Snit
B5: Samlet praktikkarakter | H5: -03
B6: Sum af delkarakterer | C6: =IF(B1="","",SUM(C5:C5)) | D6: =IF(B1="","",SUM(D5:D5)) | H6: 00
B7: Sum/1 1) | C7: =IF(B1="","",C6/1) | D7: =IF(B1="","",D6/1) | E7: =IF(B1="","",IF(C10<2,"Er ikke bestået",IF(C21<2,"Er ikke bestået",IF(AND(F19>=-3,F19<2),"Er ikke bestået",IF(AND(F19>=2,F19<=7.9),"Er antaget",IF(AND(C21>=2,C21<4),"Er antaget",IF(AND(F19>=8,F19<=10),"Er antaget med ros",IF(AND(F19>=10.1,F19<=11.9),"Er antaget med bronze",IF(AND(F19>11.9,F19<=12),"Er antaget med sølv",IF((F19>12),"Fejl i indtastningen","F")))))))))) | H7: Må ikke rundes op | I7: 1.99
B8: Afrundet karakter 2) | C8: =IF(AND(C7>=-3,C7<-1.5),-3,IF(AND(C7>=-1.5,C7<2),0,IF(AND(C7>=2,C7<3),2,IF(AND(C7>=3,C7<5.5),4,IF(AND(C7>=5.5,C7<8.5),7,IF(AND(C7>=8.5,C7<11),10,IF(AND(C7>=11,C7<=12),12,""))))))) | D8: =IF(AND(D7>=-3,D7<-1.5),-3,IF(AND(D7>=-1.5,D7<2),0,IF(AND(D7>=2,D7<3),2,IF(AND(D7>=3,D7<5.5),4,IF(AND(D7>=5.5,D7<8.5),7,IF(AND(D7>=8.5,D7<11),10,IF(AND(D7>=11,D7<=12),12,""))))))) | H8: 2
B9: Sum/2 | C9: =IF(B1="","",(C8+D8)/2)
B10: Endelig karakter for den praktiske del 4) | C10: =IF(B1="","",IF(AND((C8+D8)/2>=-3,(C8+D8)/2<-1.5),-3,IF((C8+D8)/2=-1.5,IF(C8>D8,0,-3),IF(AND((C8+D8)/2>-1.5,(C8+D8)/2<2),0,IF(AND((C8+D8)/2>=2,(C8+D8)/2<3),2,IF((C8+D8)/2=3,IF(C8>D8,4,2),IF(AND((C8+D8)/2>3,(C8+D8)/2<5.5),4,IF((C8+D8)/2=5.5,IF(C8>D8,7,4),IF(AND((C8+D8)/2>5.5,(C8+D8)/2<8.5),7,IF((C8+D8)/2=8.5,IF(C8>D8,10,7),IF(AND((C8+D8)/2>8.5,(C8+D8)/2<11),10,IF((C8+D8)/2=11,IF(C8>D8,12,10),IF(AND((C8+D8)/2>11,(C8+D8)/2<=12),12,"Fejl 40"))))))))))))) | H10: Runder op ved | I10: 3
H11: 4
H12: Runder op ved | I12: 5.5
A13: Den teoretiske del vægter 1/3 | B13: Discipliner: | C13: Selvvalgt fagområde | E13: Easy/kontor | H13: 7
C14: Censor | D14: Eksaminator | H14: Runder op ved | I14: 8.5
B15: Mundtlig fremstilling | E15: Teori: | F15: =IF(B1="","",IF(C21=-3,"-03",IF(C21=0,"00",IF(C21=2,"02",IF(C21=4,"4",IF(C21=7,"7",IF(C21=10,"10",IF(C21=12,"12","Fejl 40")))))))) | H15: 10
B16: Dokumentation | H16: Runder op | I16: 11
B17: Sum af karakterer | C17: =IF(B1="","",SUM(C15:C16)) | D17: =IF(B1="","",SUM(D15:D16)) | E17: Praktik: | F17: =IF(B1="","",IF(C10=-3,"-03",IF(C10=0,"00",IF(C10=2,"02",IF(C10=4,"4",IF(C10=7,"7",IF(C10=10,"10",IF(C10=12,"12","Fejl 40")))))))) | H17: 12
B18: Sum /2 1) | C18: =IF(B1="","",C17/2) | D18: =IF(B1="","",D17/2)
B19: Afrundet karakter 2) | C19: =IF(AND(C18>=-3,C18<-1.5),-3,IF(AND(C18>=-1.5,C18<2),0,IF(AND(C18>=2,C18<3),2,IF(AND(C18>=3,C18<5.5),4,IF(AND(C18>=5.5,C18<8.5),7,IF(AND(C18>=8.5,C18<11),10,IF(AND(C18>=11,C18<=12),12,""))))))) | D19: =IF(AND(D18>=-3,D18<-1.5),-3,IF(AND(D18>=-1.5,D18<2),0,IF(AND(D18>=2,D18<3),2,IF(AND(D18>=3,D18<5.5),4,IF(AND(D18>=5.5,D18<8.5),7,IF(AND(D18>=8.5,D18<11),10,IF(AND(D18>=11,D18<=12),12,""))))))) | E19: Endelig | F19: =IF(B1="","",F15*1/3+F17*2/3) | H19: Afrunding af endelig karakter, til medaljer
B20: Sum/2 | C20: =IF(B1="","",(C19+D19)/2) | H20: Kræver mindst 4 i teori:
B21: Endelig karakter for den teoretiske del 3) | C21: =IF(B1="","",IF(AND((C19+D19)/2>=-3,(C19+D19)/2<-1.5),-3,IF((C19+D19)/2=-1.5,IF(C19>D19,0,-3),IF(AND((C19+D19)/2>-1.5,(C19+D19)/2<2),0,IF(AND((C19+D19)/2>=2,(C19+D19)/2<3),2,IF((C19+D19)/2=3,IF(C19>D19,4,2),IF(AND((C19+D19)/2>3,(C19+D19)/2<5.5),4,IF((C19+D19)/2=5.5,IF(C19>D19,7,4),IF(AND((C19+D19)/2>5.5,(C19+D19)/2<8.5),7,IF((C19+D19)/2=8.5,IF(C19>D19,10,7),IF(AND((C19+D19)/2>8.5,(C19+D19)/2<11),10,IF((C19+D19)/2=11,IF(C19>D19,12,10),IF(AND((C19+D19)/2>11,(C19+D19)/2<=12),12,"Fejl 40"))))))))))))) | H21: Er antaget med ros | J21: 8,0 - 10,0
A22: =B1 | C22: =IF(B1="","",IF(C10<2,"Er ikke bestået",IF(C21<2,"Er ikke bestået",IF(AND(F19>=-3,F19<2),"Er ikke bestået",IF(AND(F19>=2,F19<=7.9),"Er antaget",IF(AND(C21>=2,C21<4),"Er antaget",IF(AND(F19>=8,F19<=10),"Er antaget med ros",IF(AND(F19>=10.1,F19<=11.9),"Er antaget med bronze",IF(AND(F19>11.9,F19<=12),"Er antaget med sølv",IF((F19>12),"Fejl i indtastningen","F"))))))))))
H23: Er antaget med bronze | J23: 10,1 - 11,9
A24: 1) Summen af delkaraktererne divideres med antallet af discipliner 2) Tallet afrundes til nærmeste karakter på 7-trinsskalaen 3) Er censor og eksaminator ikke enige om en samlet karakter, lægges censors og eksaminators karakterer sammen, divideres med 2 og afrundes til nærmeste karakter i 7-trinsskalaen. Hvis gennemsnittet ligger midt imellem de to karakterer, er den endelige karakter den nærmeste højere karakter, hvis det er censor har givet den højeste karakter, og ellers den nærmeste lavere karakter, hvis censor har givet den laveste karakter 4) Sum af karaktererne for basisdel og fagområde lægges sammen, divideres med 2 og afrundes til nærmeste karakter i 7-trinsskalaen.
H25: Er antaget med sølv | J25: 12
B33: Dato og underskrift censor | E33: Dato og underskrift eksaminator

Sheet Elev nr. 9
A1: Elevnavn: | B1: =IF(Karakterskema!C18=0,"",Karakterskema!C18) | D1: Cpr.nr. | E1: =IF(B1="","",Karakterskema!D18) | G1: Dato: | H1: =Karakterskema!$E$3 -> 0 | J1: Karakterskema
A3: Den praktiske del vægter 2/3 | B3: Discipliner: | E3: Fagområde: | H3: Afrunding af karaktererne for teori og praktik
C4: Censor | D4: Eksaminator | E4: =IF(B1="","",IF(Karakterskema!A18=Karakterskema!$J$8,Karakterskema!$K$8,IF(Karakterskema!A18=Karakterskema!$J$9,Karakterskema!$K$9,IF(Karakterskema!A18=Karakterskema!$J$10,Karakterskema!$K$10,IF(Karakterskema!A18=Karakterskema!$J$11,Karakterskema!$K$11,IF(Karakterskema!A18=Karakterskema!$J$12,Karakterskema!$K$12,0)))))) | H4: Karakter | I4: Snit
B5: Samlet praktikkarakter | H5: -03
B6: Sum af delkarakterer | C6: =IF(B1="","",SUM(C5:C5)) | D6: =IF(B1="","",SUM(D5:D5)) | H6: 00
B7: Sum/1 1) | C7: =IF(B1="","",C6/1) | D7: =IF(B1="","",D6/1) | E7: =IF(B1="","",IF(C10<2,"Er ikke bestået",IF(C21<2,"Er ikke bestået",IF(AND(F19>=-3,F19<2),"Er ikke bestået",IF(AND(F19>=2,F19<=7.9),"Er antaget",IF(AND(C21>=2,C21<4),"Er antaget",IF(AND(F19>=8,F19<=10),"Er antaget med ros",IF(AND(F19>=10.1,F19<=11.9),"Er antaget med bronze",IF(AND(F19>11.9,F19<=12),"Er antaget med sølv",IF((F19>12),"Fejl i indtastningen","F")))))))))) | H7: Må ikke rundes op | I7: 1.99
B8: Afrundet karakter 2) | C8: =IF(AND(C7>=-3,C7<-1.5),-3,IF(AND(C7>=-1.5,C7<2),0,IF(AND(C7>=2,C7<3),2,IF(AND(C7>=3,C7<5.5),4,IF(AND(C7>=5.5,C7<8.5),7,IF(AND(C7>=8.5,C7<11),10,IF(AND(C7>=11,C7<=12),12,""))))))) | D8: =IF(AND(D7>=-3,D7<-1.5),-3,IF(AND(D7>=-1.5,D7<2),0,IF(AND(D7>=2,D7<3),2,IF(AND(D7>=3,D7<5.5),4,IF(AND(D7>=5.5,D7<8.5),7,IF(AND(D7>=8.5,D7<11),10,IF(AND(D7>=11,D7<=12),12,""))))))) | H8: 2
B9: Sum/2 | C9: =IF(B1="","",(C8+D8)/2)
B10: Endelig karakter for den praktiske del 4) | C10: =IF(B1="","",IF(AND((C8+D8)/2>=-3,(C8+D8)/2<-1.5),-3,IF((C8+D8)/2=-1.5,IF(C8>D8,0,-3),IF(AND((C8+D8)/2>-1.5,(C8+D8)/2<2),0,IF(AND((C8+D8)/2>=2,(C8+D8)/2<3),2,IF((C8+D8)/2=3,IF(C8>D8,4,2),IF(AND((C8+D8)/2>3,(C8+D8)/2<5.5),4,IF((C8+D8)/2=5.5,IF(C8>D8,7,4),IF(AND((C8+D8)/2>5.5,(C8+D8)/2<8.5),7,IF((C8+D8)/2=8.5,IF(C8>D8,10,7),IF(AND((C8+D8)/2>8.5,(C8+D8)/2<11),10,IF((C8+D8)/2=11,IF(C8>D8,12,10),IF(AND((C8+D8)/2>11,(C8+D8)/2<=12),12,"Fejl 40"))))))))))))) | H10: Runder op ved | I10: 3
H11: 4
H12: Runder op ved | I12: 5.5
A13: Den teoretiske del vægter 1/3 | B13: Discipliner: | C13: Selvvalgt fagområde | E13: Easy/kontor | H13: 7
C14: Censor | D14: Eksaminator | H14: Runder op ved | I14: 8.5
B15: Mundtlig fremstilling | E15: Teori: | F15: =IF(B1="","",IF(C21=-3,"-03",IF(C21=0,"00",IF(C21=2,"02",IF(C21=4,"4",IF(C21=7,"7",IF(C21=10,"10",IF(C21=12,"12","Fejl 40")))))))) | H15: 10
B16: Dokumentation | H16: Runder op | I16: 11
B17: Sum af karakterer | C17: =IF(B1="","",SUM(C15:C16)) | D17: =IF(B1="","",SUM(D15:D16)) | E17: Praktik: | F17: =IF(B1="","",IF(C10=-3,"-03",IF(C10=0,"00",IF(C10=2,"02",IF(C10=4,"4",IF(C10=7,"7",IF(C10=10,"10",IF(C10=12,"12","Fejl 40")))))))) | H17: 12
B18: Sum /2 1) | C18: =IF(B1="","",C17/2) | D18: =IF(B1="","",D17/2)
B19: Afrundet karakter 2) | C19: =IF(AND(C18>=-3,C18<-1.5),-3,IF(AND(C18>=-1.5,C18<2),0,IF(AND(C18>=2,C18<3),2,IF(AND(C18>=3,C18<5.5),4,IF(AND(C18>=5.5,C18<8.5),7,IF(AND(C18>=8.5,C18<11),10,IF(AND(C18>=11,C18<=12),12,""))))))) | D19: =IF(AND(D18>=-3,D18<-1.5),-3,IF(AND(D18>=-1.5,D18<2),0,IF(AND(D18>=2,D18<3),2,IF(AND(D18>=3,D18<5.5),4,IF(AND(D18>=5.5,D18<8.5),7,IF(AND(D18>=8.5,D18<11),10,IF(AND(D18>=11,D18<=12),12,""))))))) | E19: Endelig | F19: =IF(B1="","",F15*1/3+F17*2/3) | H19: Afrunding af endelig karakter, til medaljer
B20: Sum/2 | C20: =IF(B1="","",(C19+D19)/2) | H20: Kræver mindst 4 i teori:
B21: Endelig karakter for den teoretiske del 3) | C21: =IF(B1="","",IF(AND((C19+D19)/2>=-3,(C19+D19)/2<-1.5),-3,IF((C19+D19)/2=-1.5,IF(C19>D19,0,-3),IF(AND((C19+D19)/2>-1.5,(C19+D19)/2<2),0,IF(AND((C19+D19)/2>=2,(C19+D19)/2<3),2,IF((C19+D19)/2=3,IF(C19>D19,4,2),IF(AND((C19+D19)/2>3,(C19+D19)/2<5.5),4,IF((C19+D19)/2=5.5,IF(C19>D19,7,4),IF(AND((C19+D19)/2>5.5,(C19+D19)/2<8.5),7,IF((C19+D19)/2=8.5,IF(C19>D19,10,7),IF(AND((C19+D19)/2>8.5,(C19+D19)/2<11),10,IF((C19+D19)/2=11,IF(C19>D19,12,10),IF(AND((C19+D19)/2>11,(C19+D19)/2<=12),12,"Fejl 40"))))))))))))) | H21: Er antaget med ros | J21: 8,0 - 10,0
A22: =B1 | C22: =IF(B1="","",IF(C10<2,"Er ikke bestået",IF(C21<2,"Er ikke bestået",IF(AND(F19>=-3,F19<2),"Er ikke bestået",IF(AND(F19>=2,F19<=7.9),"Er antaget",IF(AND(C21>=2,C21<4),"Er antaget",IF(AND(F19>=8,F19<=10),"Er antaget med ros",IF(AND(F19>=10.1,F19<=11.9),"Er antaget med bronze",IF(AND(F19>11.9,F19<=12),"Er antaget med sølv",IF((F19>12),"Fejl i indtastningen","F"))))))))))
H23: Er antaget med bronze | J23: 10,1 - 11,9
A24: 1) Summen af delkaraktererne divideres med antallet af discipliner 2) Tallet afrundes til nærmeste karakter på 7-trinsskalaen 3) Er censor og eksaminator ikke enige om en samlet karakter, lægges censors og eksaminators karakterer sammen, divideres med 2 og afrundes til nærmeste karakter i 7-trinsskalaen. Hvis gennemsnittet ligger midt imellem de to karakterer, er den endelige karakter den nærmeste højere karakter, hvis det er censor har givet den højeste karakter, og ellers den nærmeste lavere karakter, hvis censor har givet den laveste karakter 4) Sum af karaktererne for basisdel og fagområde lægges sammen, divideres med 2 og afrundes til nærmeste karakter i 7-trinsskalaen.
H25: Er antaget med sølv | J25: 12
B33: Dato og underskrift censor | E33: Dato og underskrift eksaminator

Sheet Elev nr. 10
A1: Elevnavn: | B1: =IF(Karakterskema!C19=0,"",Karakterskema!C19) | D1: Cpr.nr. | E1: =IF(B1="","",Karakterskema!D19) | G1: Dato: | H1: =Karakterskema!$E$3 -> 0 | J1: Karakterskema
A3: Den praktiske del vægter 2/3 | B3: Discipliner: | E3: Fagområde: | H3: Afrunding af karaktererne for teori og praktik
C4: Censor | D4: Eksaminator | E4: =IF(B1="","",IF(Karakterskema!A19=Karakterskema!$J$8,Karakterskema!$K$8,IF(Karakterskema!A19=Karakterskema!$J$9,Karakterskema!$K$9,IF(Karakterskema!A19=Karakterskema!$J$10,Karakterskema!$K$10,IF(Karakterskema!A19=Karakterskema!$J$11,Karakterskema!$K$11,IF(Karakterskema!A19=Karakterskema!$J$12,Karakterskema!$K$12,0)))))) | H4: Karakter | I4: Snit
B5: Samlet praktikkarakter | H5: -03
B6: Sum af delkarakterer | C6: =IF(B1="","",SUM(C5:C5)) | D6: =IF(B1="","",SUM(D5:D5)) | H6: 00
B7: Sum/1 1) | C7: =IF(B1="","",C6/1) | D7: =IF(B1="","",D6/1) | E7: =IF(B1="","",IF(C10<2,"Er ikke bestået",IF(C21<2,"Er ikke bestået",IF(AND(F19>=-3,F19<2),"Er ikke bestået",IF(AND(F19>=2,F19<=7.9),"Er antaget",IF(AND(C21>=2,C21<4),"Er antaget",IF(AND(F19>=8,F19<=10),"Er antaget med ros",IF(AND(F19>=10.1,F19<=11.9),"Er antaget med bronze",IF(AND(F19>11.9,F19<=12),"Er antaget med sølv",IF((F19>12),"Fejl i indtastningen","F")))))))))) | H7: Må ikke rundes op | I7: 1.99
B8: Afrundet karakter 2) | C8: =IF(AND(C7>=-3,C7<-1.5),-3,IF(AND(C7>=-1.5,C7<2),0,IF(AND(C7>=2,C7<3),2,IF(AND(C7>=3,C7<5.5),4,IF(AND(C7>=5.5,C7<8.5),7,IF(AND(C7>=8.5,C7<11),10,IF(AND(C7>=11,C7<=12),12,""))))))) | D8: =IF(AND(D7>=-3,D7<-1.5),-3,IF(AND(D7>=-1.5,D7<2),0,IF(AND(D7>=2,D7<3),2,IF(AND(D7>=3,D7<5.5),4,IF(AND(D7>=5.5,D7<8.5),7,IF(AND(D7>=8.5,D7<11),10,IF(AND(D7>=11,D7<=12),12,""))))))) | H8: 2
B9: Sum/2 | C9: =IF(B1="","",(C8+D8)/2)
B10: Endelig karakter for den praktiske del 4) | C10: =IF(B1="","",IF(AND((C8+D8)/2>=-3,(C8+D8)/2<-1.5),-3,IF((C8+D8)/2=-1.5,IF(C8>D8,0,-3),IF(AND((C8+D8)/2>-1.5,(C8+D8)/2<2),0,IF(AND((C8+D8)/2>=2,(C8+D8)/2<3),2,IF((C8+D8)/2=3,IF(C8>D8,4,2),IF(AND((C8+D8)/2>3,(C8+D8)/2<5.5),4,IF((C8+D8)/2=5.5,IF(C8>D8,7,4),IF(AND((C8+D8)/2>5.5,(C8+D8)/2<8.5),7,IF((C8+D8)/2=8.5,IF(C8>D8,10,7),IF(AND((C8+D8)/2>8.5,(C8+D8)/2<11),10,IF((C8+D8)/2=11,IF(C8>D8,12,10),IF(AND((C8+D8)/2>11,(C8+D8)/2<=12),12,"Fejl 40"))))))))))))) | H10: Runder op ved | I10: 3
H11: 4
H12: Runder op ved | I12: 5.5
A13: Den teoretiske del vægter 1/3 | B13: Discipliner: | C13: Selvvalgt fagområde | E13: Easy/kontor | H13: 7
C14: Censor | D14: Eksaminator | H14: Runder op ved | I14: 8.5
